BEGIN:VCALENDAR
VERSION:2.0
PRODID:-//eventon.com NONSGML v1.0//EN
CALSCALE:GREGORIAN
METHOD:PUBLISH
BEGIN:VEVENT
UID:69ecd93c5ba58
DTSTAMP:20260425T150948Z
DTSTART:20220406T173000Z
DTEND:20220406T200000Z
LOCATION:Gemeindehaus Oranienstraße 8a\,  61273 Wehrheim
SUMMARY:Ökomenischer Chor
DESCRIPTION:Ökomenischer Chor\nhttps://kirche-wehrheim.de/Veranstaltungen/
 oekomenischer-chor/
URL:https://kirche-wehrheim.de/Veranstaltungen/oekomenischer-chor/
END:VEVENT
END:VCALENDAR